BEGIN:VCALENDAR
VERSION:2.0
PRODID:-//Thames Scout Cruising Club - ECPv6.15.20//NONSGML v1.0//EN
CALSCALE:GREGORIAN
METHOD:PUBLISH
X-WR-CALNAME:Thames Scout Cruising Club
X-ORIGINAL-URL:https://www.tscc.org.uk
X-WR-CALDESC:Events for Thames Scout Cruising Club
REFRESH-INTERVAL;VALUE=DURATION:PT1H
X-Robots-Tag:noindex
X-PUBLISHED-TTL:PT1H
BEGIN:VTIMEZONE
TZID:Europe/London
BEGIN:DAYLIGHT
TZOFFSETFROM:+0000
TZOFFSETTO:+0100
TZNAME:BST
DTSTART:20220327T010000
END:DAYLIGHT
BEGIN:STANDARD
TZOFFSETFROM:+0100
TZOFFSETTO:+0000
TZNAME:GMT
DTSTART:20221030T010000
END:STANDARD
BEGIN:DAYLIGHT
TZOFFSETFROM:+0000
TZOFFSETTO:+0100
TZNAME:BST
DTSTART:20230326T010000
END:DAYLIGHT
BEGIN:STANDARD
TZOFFSETFROM:+0100
TZOFFSETTO:+0000
TZNAME:GMT
DTSTART:20231029T010000
END:STANDARD
BEGIN:DAYLIGHT
TZOFFSETFROM:+0000
TZOFFSETTO:+0100
TZNAME:BST
DTSTART:20240331T010000
END:DAYLIGHT
BEGIN:STANDARD
TZOFFSETFROM:+0100
TZOFFSETTO:+0000
TZNAME:GMT
DTSTART:20241027T010000
END:STANDARD
END:VTIMEZONE
BEGIN:VEVENT
DTSTART;TZID=Europe/London:20231210T150000
DTEND;TZID=Europe/London:20231210T150000
DTSTAMP:20260422T225012
CREATED:20230706T104603Z
LAST-MODIFIED:20231115T092210Z
UID:1328-1702220400-1702220400@www.tscc.org.uk
SUMMARY:Festive Tea Party
DESCRIPTION:View Flyer: TSCC Festive Tea Party
URL:https://www.tscc.org.uk/event/festive-tea
LOCATION:Hinchley Wood Scout HQ\, Lynwood Road\, Thames Ditton\, Surrey\, KT7 0DN\, United Kingdom
END:VEVENT
END:VCALENDAR