BEGIN:VCALENDAR
VERSION:2.0
PRODID:-//Thames Scout Cruising Club - ECPv6.15.20//NONSGML v1.0//EN
CALSCALE:GREGORIAN
METHOD:PUBLISH
X-WR-CALNAME:Thames Scout Cruising Club
X-ORIGINAL-URL:https://www.tscc.org.uk
X-WR-CALDESC:Events for Thames Scout Cruising Club
REFRESH-INTERVAL;VALUE=DURATION:PT1H
X-Robots-Tag:noindex
X-PUBLISHED-TTL:PT1H
BEGIN:VTIMEZONE
TZID:Europe/London
BEGIN:DAYLIGHT
TZOFFSETFROM:+0000
TZOFFSETTO:+0100
TZNAME:BST
DTSTART:20250330T010000
END:DAYLIGHT
BEGIN:STANDARD
TZOFFSETFROM:+0100
TZOFFSETTO:+0000
TZNAME:GMT
DTSTART:20251026T010000
END:STANDARD
BEGIN:DAYLIGHT
TZOFFSETFROM:+0000
TZOFFSETTO:+0100
TZNAME:BST
DTSTART:20260329T010000
END:DAYLIGHT
BEGIN:STANDARD
TZOFFSETFROM:+0100
TZOFFSETTO:+0000
TZNAME:GMT
DTSTART:20261025T010000
END:STANDARD
BEGIN:DAYLIGHT
TZOFFSETFROM:+0000
TZOFFSETTO:+0100
TZNAME:BST
DTSTART:20270328T010000
END:DAYLIGHT
BEGIN:STANDARD
TZOFFSETFROM:+0100
TZOFFSETTO:+0000
TZNAME:GMT
DTSTART:20271031T010000
END:STANDARD
END:VTIMEZONE
BEGIN:VEVENT
DTSTART;TZID=Europe/London:20260112T120000
DTEND;TZID=Europe/London:20260112T150000
DTSTAMP:20260425T234616
CREATED:20251215T135853Z
LAST-MODIFIED:20251215T135853Z
UID:1621-1768219200-1768230000@www.tscc.org.uk
SUMMARY:New Year's Pub Lunch
DESCRIPTION:Dear All \n\nOn Monday 12th January we plan once again to kick-start the new year with a pub lunch at the Three Horseshoes in Laleham. \n\nThe cost will be £26.50 for two courses or £29.50 for three courses.  The price includes tea or coffee and service. \n\nWe do hope you will be joining us and\, if so\, we need a deposit of £10 per person to secure our reservation.  This should be sent to the Treasurer in the usual way reference: “Horseshoes” \n\nWe will send you the menu as soon as this is available so you can make your menu selections. \n\nAgain\, we do hope you will be joining us and look forward to hearing from you. \n\nWith seasons greetings \n\nMark
URL:https://www.tscc.org.uk/event/new-years-pub-lunch
LOCATION:The Three Horseshoes\, 25 Shepperton Road\, Laleham\, TW18 1SE
END:VEVENT
END:VCALENDAR