BEGIN:VCALENDAR
VERSION:2.0
PRODID:-//Thames Scout Cruising Club - ECPv6.15.20//NONSGML v1.0//EN
CALSCALE:GREGORIAN
METHOD:PUBLISH
X-WR-CALNAME:Thames Scout Cruising Club
X-ORIGINAL-URL:https://www.tscc.org.uk
X-WR-CALDESC:Events for Thames Scout Cruising Club
REFRESH-INTERVAL;VALUE=DURATION:PT1H
X-Robots-Tag:noindex
X-PUBLISHED-TTL:PT1H
BEGIN:VTIMEZONE
TZID:Europe/London
BEGIN:DAYLIGHT
TZOFFSETFROM:+0000
TZOFFSETTO:+0100
TZNAME:BST
DTSTART:20230326T010000
END:DAYLIGHT
BEGIN:STANDARD
TZOFFSETFROM:+0100
TZOFFSETTO:+0000
TZNAME:GMT
DTSTART:20231029T010000
END:STANDARD
BEGIN:DAYLIGHT
TZOFFSETFROM:+0000
TZOFFSETTO:+0100
TZNAME:BST
DTSTART:20240331T010000
END:DAYLIGHT
BEGIN:STANDARD
TZOFFSETFROM:+0100
TZOFFSETTO:+0000
TZNAME:GMT
DTSTART:20241027T010000
END:STANDARD
BEGIN:DAYLIGHT
TZOFFSETFROM:+0000
TZOFFSETTO:+0100
TZNAME:BST
DTSTART:20250330T010000
END:DAYLIGHT
BEGIN:STANDARD
TZOFFSETFROM:+0100
TZOFFSETTO:+0000
TZNAME:GMT
DTSTART:20251026T010000
END:STANDARD
END:VTIMEZONE
BEGIN:VEVENT
DTSTART;TZID=Europe/London:20240107T150000
DTEND;TZID=Europe/London:20240107T150000
DTSTAMP:20260422T224937
CREATED:20231219T101037Z
LAST-MODIFIED:20231219T102346Z
UID:1374-1704639600-1704639600@www.tscc.org.uk
SUMMARY:TSCC AGM
DESCRIPTION:TSCC AGM Agenda 2024 \nTSCC 2024 Programme of Events Rev 1.0 \nDear All \nThis notice is to advise you that the TSCC AGM will take place on Sunday 7th January 2024 at Ajax Water Activities Centre\, Ditton Reach\, Thames Ditton\,  Surrey KT7 0XB\, with arrival at 2.45pm for a 3.00pm start. \nPlease find attached: \n\nAGM Agenda\n2024 Programme of Events\nDirections to the Ajax Sea Scouts Water Activities Centre\nMinutes of the 2023 AGM approved by the Committee and attached for reference\nCommittee Nominations and AGM Motions Form\n\nThe Statement of Financial Activities for 2023\, as signed off by our Independent Examiner\, will be forwarded to you as soon as this is ready. \nWe do hope you will join us for our AGM when\, as usual\, there will also be the opportunity to chat and catch up with other members over a cup of tea or coffee and some light refreshments. \nAs ever\, we will be relying on all members to bring along a contribution to the nibbles.  Committee members will bring sandwiches and other members are requested to bring cakes and / or savouries.  All contributions gratefully appreciated but if possible home-made would be fantastic.  Tea and coffee will be supplied. \nYour Committee looks forward to seeing you on Sunday 7th January \nWith best Wishes \nMark Marriott \nTSCC Secretary
URL:https://www.tscc.org.uk/event/tscc-agm-3
LOCATION:Ajax Water Activities Centre\, Cholmley Road\, Thames Ditton\, Surrey\, KT7 0XB
END:VEVENT
END:VCALENDAR