BEGIN:VCALENDAR
VERSION:2.0
PRODID:-//Thames Scout Cruising Club - ECPv6.15.20//NONSGML v1.0//EN
CALSCALE:GREGORIAN
METHOD:PUBLISH
X-ORIGINAL-URL:https://www.tscc.org.uk
X-WR-CALDESC:Events for Thames Scout Cruising Club
REFRESH-INTERVAL;VALUE=DURATION:PT1H
X-Robots-Tag:noindex
X-PUBLISHED-TTL:PT1H
BEGIN:VTIMEZONE
TZID:Europe/London
BEGIN:DAYLIGHT
TZOFFSETFROM:+0000
TZOFFSETTO:+0100
TZNAME:BST
DTSTART:20220327T010000
END:DAYLIGHT
BEGIN:STANDARD
TZOFFSETFROM:+0100
TZOFFSETTO:+0000
TZNAME:GMT
DTSTART:20221030T010000
END:STANDARD
BEGIN:DAYLIGHT
TZOFFSETFROM:+0000
TZOFFSETTO:+0100
TZNAME:BST
DTSTART:20230326T010000
END:DAYLIGHT
BEGIN:STANDARD
TZOFFSETFROM:+0100
TZOFFSETTO:+0000
TZNAME:GMT
DTSTART:20231029T010000
END:STANDARD
BEGIN:DAYLIGHT
TZOFFSETFROM:+0000
TZOFFSETTO:+0100
TZNAME:BST
DTSTART:20240331T010000
END:DAYLIGHT
BEGIN:STANDARD
TZOFFSETFROM:+0100
TZOFFSETTO:+0000
TZNAME:GMT
DTSTART:20241027T010000
END:STANDARD
END:VTIMEZONE
BEGIN:VEVENT
DTSTART;VALUE=DATE:20230607
DTEND;VALUE=DATE:20230610
DTSTAMP:20260424T192157
CREATED:20220917T133530Z
LAST-MODIFIED:20220917T133530Z
UID:1199-1686096000-1686355199@www.tscc.org.uk
SUMMARY:Cotswolds at Warner's 7-9 June 2023
DESCRIPTION:View Flyer:  Cotswolds 2023
URL:https://www.tscc.org.uk/event/cotswolds-at-warners-7-9-june-2023
LOCATION:Heythrop Park\, Enstone\, Chipping Norton\, Oxfordshire\, OX7 4NF\, United Kingdom
END:VEVENT
END:VCALENDAR